Workbook

Sheet 申込書
A1: 提出方法：下記宛てメール又はファクスにて送信願います（添書不要）。
A2: 提出先 ：令和８年度福島県自治体病院学会事務局
A3: 公立岩瀬病院 事務部 栗城 関根
A4: メールアドレス soumu10@iwase-hp.jp
A5: ※可能な限り、メール(エクセル）でお願いいたします。
B6: FAX0248-73-2417
A7: 提出期限：令和８年10月23日（金）
A9: 令和８年度福島県自治体病院学会参加申込書
B10: のセルのみ入力してください。
A12: 提出日
A13: 担当者 | C13: 病院名
C14: 担当者所属
C15: 担当者名
C16: 電話番号
C17: ﾒｰﾙｱﾄﾞﾚｽ
A19: （１）会場に出席する名簿を下記にご記入ください。
A20: 番号 | B20: 参加者氏名 | C20: ﾌﾘｶﾞﾅ | D20: 所属名 | E20: 職名 | F20: 区分※ | G20: 情報交換会 出欠区分※
A21: 1 | I21: 番号 | J21: 区分
A22: 2 | I22: 1 | J22: 協議会役員、病院（施設）長
A23: 3 | I23: 2 | J23: 研究発表者
A24: 4 | I24: 3 | J24: 座長（研究発表）
A25: 5 | I25: 4 | J25: その他
A26: 6
A27: 7 | I27: 番号 | J27: 懇親会
A28: 8 | I28: 1 | J28: 出席
A29: 9 | I29: 2 | J29: 欠席
A30: 10
A31: ※ | B31: 区分はドロップダウンにて選択してください。複数該当する場合は番号の最も若いものを選択してください。
A32: ※ | B32: 情報交換会出欠区分につきましても、ドロップダウンにて選択してください。
A33: ※ | B33: 行が足りない場合は適宜増やして入力ください。
A34: ※ | B34: 参加されない施設に対しては、パンフレットを１部郵送いたします。
A36: （２）その他、ご意見・ご質問等ありましたらご記入ください。
A43: ご不明な点がございましたら事務担当（0248-75-3111）までご連絡ください。

Sheet 出席者一覧
A1: 病院名 | B1: 番号 | C1: 出席者氏名 | D1: 出席者ﾌﾘｶﾞﾅ | E1: 所属名 | F1: 職名 | G1: 区分※ | H1: 懇親会
A2: =IF(C2="","",申込書!$D$13) | B2: 1 | C2: =IF(VLOOKUP($B2,申込書!$A$20:$G$30,2,FALSE)="","",VLOOKUP($B2,申込書!$A$20:$G$30,2,FALSE)) | D2: =IF(VLOOKUP($B2,申込書!$A$20:$G$30,3,FALSE)="","",VLOOKUP($B2,申込書!$A$20:$G$30,3,FALSE)) | E2: =IF(VLOOKUP($B2,申込書!$A$20:$G$30,4,FALSE)="","",VLOOKUP($B2,申込書!$A$20:$G$30,4,FALSE)) | F2: =IF(VLOOKUP($B2,申込書!$A$20:$G$30,5,FALSE)="","",VLOOKUP($B2,申込書!$A$20:$G$30,5,FALSE)) | G2: =IF(VLOOKUP($B2,申込書!$A$20:$G$30,6,FALSE)="","",VLOOKUP($B2,申込書!$A$20:$G$30,6,FALSE)) | H2: =IF(VLOOKUP($B2,申込書!$A$20:$G$30,7,FALSE)="","",VLOOKUP($B2,申込書!$A$20:$G$30,7,FALSE))
A3: =IF(C3="","",申込書!$C$13) | B3: 2 | C3: =IF(VLOOKUP($B3,申込書!$A$20:$G$30,2,FALSE)="","",VLOOKUP($B3,申込書!$A$20:$G$30,2,FALSE)) | D3: =IF(VLOOKUP($B3,申込書!$A$20:$G$30,3,FALSE)="","",VLOOKUP($B3,申込書!$A$20:$G$30,3,FALSE)) | E3: =IF(VLOOKUP($B3,申込書!$A$20:$G$30,4,FALSE)="","",VLOOKUP($B3,申込書!$A$20:$G$30,4,FALSE)) | F3: =IF(VLOOKUP($B3,申込書!$A$20:$G$30,5,FALSE)="","",VLOOKUP($B3,申込書!$A$20:$G$30,5,FALSE)) | G3: =IF(VLOOKUP($B3,申込書!$A$20:$G$30,6,FALSE)="","",VLOOKUP($B3,申込書!$A$20:$G$30,6,FALSE)) | H3: =IF(VLOOKUP($B3,申込書!$A$20:$G$30,7,FALSE)="","",VLOOKUP($B3,申込書!$A$20:$G$30,7,FALSE))
A4: =IF(C4="","",申込書!$C$13) | B4: 3 | C4: =IF(VLOOKUP($B4,申込書!$A$20:$G$30,2,FALSE)="","",VLOOKUP($B4,申込書!$A$20:$G$30,2,FALSE)) | D4: =IF(VLOOKUP($B4,申込書!$A$20:$G$30,3,FALSE)="","",VLOOKUP($B4,申込書!$A$20:$G$30,3,FALSE)) | E4: =IF(VLOOKUP($B4,申込書!$A$20:$G$30,4,FALSE)="","",VLOOKUP($B4,申込書!$A$20:$G$30,4,FALSE)) | F4: =IF(VLOOKUP($B4,申込書!$A$20:$G$30,5,FALSE)="","",VLOOKUP($B4,申込書!$A$20:$G$30,5,FALSE)) | G4: =IF(VLOOKUP($B4,申込書!$A$20:$G$30,6,FALSE)="","",VLOOKUP($B4,申込書!$A$20:$G$30,6,FALSE)) | H4: =IF(VLOOKUP($B4,申込書!$A$20:$G$30,7,FALSE)="","",VLOOKUP($B4,申込書!$A$20:$G$30,7,FALSE))
A5: =IF(C5="","",申込書!$C$13) | B5: 4 | C5: =IF(VLOOKUP($B5,申込書!$A$20:$G$30,2,FALSE)="","",VLOOKUP($B5,申込書!$A$20:$G$30,2,FALSE)) | D5: =IF(VLOOKUP($B5,申込書!$A$20:$G$30,3,FALSE)="","",VLOOKUP($B5,申込書!$A$20:$G$30,3,FALSE)) | E5: =IF(VLOOKUP($B5,申込書!$A$20:$G$30,4,FALSE)="","",VLOOKUP($B5,申込書!$A$20:$G$30,4,FALSE)) | F5: =IF(VLOOKUP($B5,申込書!$A$20:$G$30,5,FALSE)="","",VLOOKUP($B5,申込書!$A$20:$G$30,5,FALSE)) | G5: =IF(VLOOKUP($B5,申込書!$A$20:$G$30,6,FALSE)="","",VLOOKUP($B5,申込書!$A$20:$G$30,6,FALSE)) | H5: =IF(VLOOKUP($B5,申込書!$A$20:$G$30,7,FALSE)="","",VLOOKUP($B5,申込書!$A$20:$G$30,7,FALSE))
A6: =IF(C6="","",申込書!$C$13) | B6: 5 | C6: =IF(VLOOKUP($B6,申込書!$A$20:$G$30,2,FALSE)="","",VLOOKUP($B6,申込書!$A$20:$G$30,2,FALSE)) | D6: =IF(VLOOKUP($B6,申込書!$A$20:$G$30,3,FALSE)="","",VLOOKUP($B6,申込書!$A$20:$G$30,3,FALSE)) | E6: =IF(VLOOKUP($B6,申込書!$A$20:$G$30,4,FALSE)="","",VLOOKUP($B6,申込書!$A$20:$G$30,4,FALSE)) | F6: =IF(VLOOKUP($B6,申込書!$A$20:$G$30,5,FALSE)="","",VLOOKUP($B6,申込書!$A$20:$G$30,5,FALSE)) | G6: =IF(VLOOKUP($B6,申込書!$A$20:$G$30,6,FALSE)="","",VLOOKUP($B6,申込書!$A$20:$G$30,6,FALSE)) | H6: =IF(VLOOKUP($B6,申込書!$A$20:$G$30,7,FALSE)="","",VLOOKUP($B6,申込書!$A$20:$G$30,7,FALSE))
A7: =IF(C7="","",申込書!$C$13) | B7: 6 | C7: =IF(VLOOKUP($B7,申込書!$A$20:$G$30,2,FALSE)="","",VLOOKUP($B7,申込書!$A$20:$G$30,2,FALSE)) | D7: =IF(VLOOKUP($B7,申込書!$A$20:$G$30,3,FALSE)="","",VLOOKUP($B7,申込書!$A$20:$G$30,3,FALSE)) | E7: =IF(VLOOKUP($B7,申込書!$A$20:$G$30,4,FALSE)="","",VLOOKUP($B7,申込書!$A$20:$G$30,4,FALSE)) | F7: =IF(VLOOKUP($B7,申込書!$A$20:$G$30,5,FALSE)="","",VLOOKUP($B7,申込書!$A$20:$G$30,5,FALSE)) | G7: =IF(VLOOKUP($B7,申込書!$A$20:$G$30,6,FALSE)="","",VLOOKUP($B7,申込書!$A$20:$G$30,6,FALSE)) | H7: =IF(VLOOKUP($B7,申込書!$A$20:$G$30,7,FALSE)="","",VLOOKUP($B7,申込書!$A$20:$G$30,7,FALSE))
A8: =IF(C8="","",申込書!$C$13) | B8: 7 | C8: =IF(VLOOKUP($B8,申込書!$A$20:$G$30,2,FALSE)="","",VLOOKUP($B8,申込書!$A$20:$G$30,2,FALSE)) | D8: =IF(VLOOKUP($B8,申込書!$A$20:$G$30,3,FALSE)="","",VLOOKUP($B8,申込書!$A$20:$G$30,3,FALSE)) | E8: =IF(VLOOKUP($B8,申込書!$A$20:$G$30,4,FALSE)="","",VLOOKUP($B8,申込書!$A$20:$G$30,4,FALSE)) | F8: =IF(VLOOKUP($B8,申込書!$A$20:$G$30,5,FALSE)="","",VLOOKUP($B8,申込書!$A$20:$G$30,5,FALSE)) | G8: =IF(VLOOKUP($B8,申込書!$A$20:$G$30,6,FALSE)="","",VLOOKUP($B8,申込書!$A$20:$G$30,6,FALSE)) | H8: =IF(VLOOKUP($B8,申込書!$A$20:$G$30,7,FALSE)="","",VLOOKUP($B8,申込書!$A$20:$G$30,7,FALSE))
A9: =IF(C9="","",申込書!$C$13) | B9: 8 | C9: =IF(VLOOKUP($B9,申込書!$A$20:$G$30,2,FALSE)="","",VLOOKUP($B9,申込書!$A$20:$G$30,2,FALSE)) | D9: =IF(VLOOKUP($B9,申込書!$A$20:$G$30,3,FALSE)="","",VLOOKUP($B9,申込書!$A$20:$G$30,3,FALSE)) | E9: =IF(VLOOKUP($B9,申込書!$A$20:$G$30,4,FALSE)="","",VLOOKUP($B9,申込書!$A$20:$G$30,4,FALSE)) | F9: =IF(VLOOKUP($B9,申込書!$A$20:$G$30,5,FALSE)="","",VLOOKUP($B9,申込書!$A$20:$G$30,5,FALSE)) | G9: =IF(VLOOKUP($B9,申込書!$A$20:$G$30,6,FALSE)="","",VLOOKUP($B9,申込書!$A$20:$G$30,6,FALSE)) | H9: =IF(VLOOKUP($B9,申込書!$A$20:$G$30,7,FALSE)="","",VLOOKUP($B9,申込書!$A$20:$G$30,7,FALSE))
A10: =IF(C10="","",申込書!$C$13) | B10: 9 | C10: =IF(VLOOKUP($B10,申込書!$A$20:$G$30,2,FALSE)="","",VLOOKUP($B10,申込書!$A$20:$G$30,2,FALSE)) | D10: =IF(VLOOKUP($B10,申込書!$A$20:$G$30,3,FALSE)="","",VLOOKUP($B10,申込書!$A$20:$G$30,3,FALSE)) | E10: =IF(VLOOKUP($B10,申込書!$A$20:$G$30,4,FALSE)="","",VLOOKUP($B10,申込書!$A$20:$G$30,4,FALSE)) | F10: =IF(VLOOKUP($B10,申込書!$A$20:$G$30,5,FALSE)="","",VLOOKUP($B10,申込書!$A$20:$G$30,5,FALSE)) | G10: =IF(VLOOKUP($B10,申込書!$A$20:$G$30,6,FALSE)="","",VLOOKUP($B10,申込書!$A$20:$G$30,6,FALSE)) | H10: =IF(VLOOKUP($B10,申込書!$A$20:$G$30,7,FALSE)="","",VLOOKUP($B10,申込書!$A$20:$G$30,7,FALSE))
A11: =IF(C11="","",申込書!$C$13) | B11: 10 | C11: =IF(VLOOKUP($B11,申込書!$A$20:$G$30,2,FALSE)="","",VLOOKUP($B11,申込書!$A$20:$G$30,2,FALSE)) | D11: =IF(VLOOKUP($B11,申込書!$A$20:$G$30,3,FALSE)="","",VLOOKUP($B11,申込書!$A$20:$G$30,3,FALSE)) | E11: =IF(VLOOKUP($B11,申込書!$A$20:$G$30,4,FALSE)="","",VLOOKUP($B11,申込書!$A$20:$G$30,4,FALSE)) | F11: =IF(VLOOKUP($B11,申込書!$A$20:$G$30,5,FALSE)="","",VLOOKUP($B11,申込書!$A$20:$G$30,5,FALSE)) | G11: =IF(VLOOKUP($B11,申込書!$A$20:$G$30,6,FALSE)="","",VLOOKUP($B11,申込書!$A$20:$G$30,6,FALSE)) | H11: =IF(VLOOKUP($B11,申込書!$A$20:$G$30,7,FALSE)="","",VLOOKUP($B11,申込書!$A$20:$G$30,7,FALSE))
